BEGIN:VCALENDAR
VERSION:2.0
PRODID:-//pretix//Carpentries_Pretix//
BEGIN:VEVENT
UID:pretix-professional-development-courses-763@pretix.carpentries.org
DTSTART:20260428T100000Z
DTEND:20260428T130000Z
DESCRIPTION:Tickets: https://pretix.carpentries.org/professional-developmen
 t/courses/763/\nOrganizer: Professional Development
DTSTAMP:20260424T100711Z
LOCATION:The event will be in this zoom room:\, https://carpentries.zoom.us
 /my/carpentriesroom2?pwd=WmVCOUlPUm1laFk5SUp1UWg5cjhEUT09\, The password t
 o this zoom room is 202020
SUMMARY:GitHub Skills
END:VEVENT
BEGIN:VEVENT
UID:pretix-professional-development-courses-767@pretix.carpentries.org
DTSTART:20260430T210000Z
DTEND:20260501T000000Z
DESCRIPTION:Tickets: https://pretix.carpentries.org/professional-developmen
 t/courses/767/\nOrganizer: Professional Development
DTSTAMP:20260424T100711Z
LOCATION:The event will be in this zoom room:\, https://carpentries.zoom.us
 /my/carpentriesroom2?pwd=WmVCOUlPUm1laFk5SUp1UWg5cjhEUT09\, The password t
 o this zoom room is 202020
SUMMARY:Running Effective Online Meetings
END:VEVENT
BEGIN:VEVENT
UID:pretix-professional-development-courses-765@pretix.carpentries.org
DTSTART:20260511T100000Z
DTEND:20260511T130000Z
DESCRIPTION:Tickets: https://pretix.carpentries.org/professional-developmen
 t/courses/765/\nOrganizer: Professional Development
DTSTAMP:20260424T100711Z
LOCATION:The event will be in this zoom room:\, https://carpentries.zoom.us
 /my/carpentriesroom2?pwd=WmVCOUlPUm1laFk5SUp1UWg5cjhEUT09\, The password t
 o this zoom room is 202020
SUMMARY:GitHub Skills
END:VEVENT
BEGIN:VEVENT
UID:pretix-professional-development-courses-768@pretix.carpentries.org
DTSTART:20260518T153000Z
DTEND:20260518T183000Z
DESCRIPTION:Tickets: https://pretix.carpentries.org/professional-developmen
 t/courses/768/\nOrganizer: Professional Development
DTSTAMP:20260424T100711Z
LOCATION:The event will be in this zoom room:\, https://carpentries.zoom.us
 /my/carpentriesroom2?pwd=WmVCOUlPUm1laFk5SUp1UWg5cjhEUT09\, The password t
 o this zoom room is 202020
SUMMARY:Running Effective Online Meetings
END:VEVENT
BEGIN:VEVENT
UID:pretix-professional-development-courses-766@pretix.carpentries.org
DTSTART:20260529T120000Z
DTEND:20260529T150000Z
DESCRIPTION:Tickets: https://pretix.carpentries.org/professional-developmen
 t/courses/766/\nOrganizer: Professional Development
DTSTAMP:20260424T100711Z
LOCATION:The event will be in this zoom room:\, https://carpentries.zoom.us
 /my/carpentriesroom2?pwd=WmVCOUlPUm1laFk5SUp1UWg5cjhEUT09\, The password t
 o this zoom room is 202020
SUMMARY:GitHub Skills
END:VEVENT
BEGIN:VEVENT
UID:pretix-professional-development-courses-764@pretix.carpentries.org
DTSTART:20260609T000000Z
DTEND:20260609T030000Z
DESCRIPTION:Tickets: https://pretix.carpentries.org/professional-developmen
 t/courses/764/\nOrganizer: Professional Development
DTSTAMP:20260424T100711Z
LOCATION:The event will be in this zoom room:\, https://carpentries.zoom.us
 /my/carpentriesroom2?pwd=WmVCOUlPUm1laFk5SUp1UWg5cjhEUT09\, The password t
 o this zoom room is 202020
SUMMARY:GitHub Skills
END:VEVENT
END:VCALENDAR
