BEGIN:VCALENDAR
VERSION:2.0
PRODID:-//pretix//Carpentries_Pretix//
BEGIN:VEVENT
UID:pretix-community-events-community-sessions-742@pretix.carpentries.org
DTSTART:20260402T083000Z
DTEND:20260402T100000Z
DESCRIPTION:Tickets: https://pretix.carpentries.org/community-events/commun
 ity-sessions/742/\nOrganizer: Carpentries Community Events
DTSTAMP:20260421T191103Z
LOCATION:https://carpentries.zoom.us/my/carpentriesroom2?pwd=WmVCOUlPUm1laF
 k5SUp1UWg5cjhEUT09
SUMMARY:Creating a Workshop Website (Skill-up Session)
END:VEVENT
BEGIN:VEVENT
UID:pretix-community-events-welcome-sessions-720@pretix.carpentries.org
DTSTART:20260407T140000Z
DTEND:20260407T150000Z
DESCRIPTION:Tickets: https://pretix.carpentries.org/community-events/welcom
 e-sessions/720/\nOrganizer: Carpentries Community Events
DTSTAMP:20260421T191103Z
LOCATION:https://carpentries.zoom.us/my/carpentriesroom2?pwd=WmVCOUlPUm1laF
 k5SUp1UWg5cjhEUT09
SUMMARY:Welcome Session
END:VEVENT
BEGIN:VEVENT
UID:pretix-community-events-community-sessions-743@pretix.carpentries.org
DTSTART:20260407T153000Z
DTEND:20260407T163000Z
DESCRIPTION:Tickets: https://pretix.carpentries.org/community-events/commun
 ity-sessions/743/\nOrganizer: Carpentries Community Events
DTSTAMP:20260421T191103Z
LOCATION:https://carpentries.zoom.us/my/carpentriesroom2?pwd=WmVCOUlPUm1laF
 k5SUp1UWg5cjhEUT09
SUMMARY:Code of Conduct Violation Reporting: What Happens?  (Community Disc
 ussion Session)
END:VEVENT
BEGIN:VEVENT
UID:pretix-community-events-welcome-sessions-721@pretix.carpentries.org
DTSTART:20260414T140000Z
DTEND:20260414T150000Z
DESCRIPTION:Tickets: https://pretix.carpentries.org/community-events/welcom
 e-sessions/721/\nOrganizer: Carpentries Community Events
DTSTAMP:20260421T191103Z
LOCATION:https://carpentries.zoom.us/my/carpentriesroom2?pwd=WmVCOUlPUm1laF
 k5SUp1UWg5cjhEUT09
SUMMARY:Welcome Session
END:VEVENT
BEGIN:VEVENT
UID:pretix-community-events-community-sessions-744@pretix.carpentries.org
DTSTART:20260415T150000Z
DTEND:20260415T160000Z
DESCRIPTION:Tickets: https://pretix.carpentries.org/community-events/commun
 ity-sessions/744/\nOrganizer: Carpentries Community Events
DTSTAMP:20260421T191103Z
LOCATION:https://carpentries.zoom.us/my/carpentriesroom2?pwd=WmVCOUlPUm1laF
 k5SUp1UWg5cjhEUT09
SUMMARY:Glosario Co-Working (Collaboration Session)
END:VEVENT
BEGIN:VEVENT
UID:pretix-community-events-welcome-sessions-722@pretix.carpentries.org
DTSTART:20260417T090000Z
DTEND:20260417T100000Z
DESCRIPTION:Tickets: https://pretix.carpentries.org/community-events/welcom
 e-sessions/722/\nOrganizer: Carpentries Community Events
DTSTAMP:20260421T191103Z
LOCATION:https://carpentries.zoom.us/my/carpentriesroom2?pwd=WmVCOUlPUm1laF
 k5SUp1UWg5cjhEUT09
SUMMARY:Welcome Session
END:VEVENT
BEGIN:VEVENT
UID:pretix-community-events-welcome-sessions-723@pretix.carpentries.org
DTSTART:20260420T090000Z
DTEND:20260420T100000Z
DESCRIPTION:Tickets: https://pretix.carpentries.org/community-events/welcom
 e-sessions/723/\nOrganizer: Carpentries Community Events
DTSTAMP:20260421T191103Z
LOCATION:https://carpentries.zoom.us/my/carpentriesroom2?pwd=WmVCOUlPUm1laF
 k5SUp1UWg5cjhEUT09
SUMMARY:Welcome Session
END:VEVENT
BEGIN:VEVENT
UID:pretix-community-events-community-sessions-745@pretix.carpentries.org
DTSTART:20260421T163000Z
DTEND:20260421T173000Z
DESCRIPTION:Tickets: https://pretix.carpentries.org/community-events/commun
 ity-sessions/745/\nOrganizer: Carpentries Community Events
DTSTAMP:20260421T191103Z
LOCATION:https://carpentries.zoom.us/my/carpentriesroom2?pwd=WmVCOUlPUm1laF
 k5SUp1UWg5cjhEUT09
SUMMARY:The Carpentries Partnership Program (Community Discussion Session)
END:VEVENT
BEGIN:VEVENT
UID:pretix-community-events-community-sessions-746@pretix.carpentries.org
DTSTART:20260422T090000Z
DTEND:20260422T100000Z
DESCRIPTION:Tickets: https://pretix.carpentries.org/community-events/commun
 ity-sessions/746/\nOrganizer: Carpentries Community Events
DTSTAMP:20260421T191103Z
LOCATION:https://carpentries.zoom.us/my/carpentriesroom2?pwd=WmVCOUlPUm1laF
 k5SUp1UWg5cjhEUT09
SUMMARY:The Carpentries Partnership Program (Community Discussion Session)
END:VEVENT
BEGIN:VEVENT
UID:pretix-community-events-community-sessions-747@pretix.carpentries.org
DTSTART:20260423T100000Z
DTEND:20260423T110000Z
DESCRIPTION:Tickets: https://pretix.carpentries.org/community-events/commun
 ity-sessions/747/\nOrganizer: Carpentries Community Events
DTSTAMP:20260421T191103Z
LOCATION:https://carpentries.zoom.us/my/carpentriesroom2?pwd=WmVCOUlPUm1laF
 k5SUp1UWg5cjhEUT09
SUMMARY:African Carpentry Community Monthly Call (Community Discussion Sess
 ion)
END:VEVENT
BEGIN:VEVENT
UID:pretix-community-events-welcome-sessions-724@pretix.carpentries.org
DTSTART:20260427T130000Z
DTEND:20260427T140000Z
DESCRIPTION:Tickets: https://pretix.carpentries.org/community-events/welcom
 e-sessions/724/\nOrganizer: Carpentries Community Events
DTSTAMP:20260421T191103Z
LOCATION:https://carpentries.zoom.us/my/carpentriesroom2?pwd=WmVCOUlPUm1laF
 k5SUp1UWg5cjhEUT09
SUMMARY:Welcome Session
END:VEVENT
BEGIN:VEVENT
UID:pretix-community-events-welcome-sessions-725@pretix.carpentries.org
DTSTART:20260429T230000Z
DTEND:20260430T000000Z
DESCRIPTION:Tickets: https://pretix.carpentries.org/community-events/welcom
 e-sessions/725/\nOrganizer: Carpentries Community Events
DTSTAMP:20260421T191103Z
LOCATION:https://carpentries.zoom.us/my/carpentriesroom2?pwd=WmVCOUlPUm1laF
 k5SUp1UWg5cjhEUT09
SUMMARY:Welcome Session
END:VEVENT
BEGIN:VEVENT
UID:pretix-community-events-community-sessions-748@pretix.carpentries.org
DTSTART:20260430T140000Z
DTEND:20260430T150000Z
DESCRIPTION:Tickets: https://pretix.carpentries.org/community-events/commun
 ity-sessions/748/\nOrganizer: Carpentries Community Events
DTSTAMP:20260421T191103Z
LOCATION:https://carpentries.zoom.us/my/carpentriesroom2?pwd=WmVCOUlPUm1laF
 k5SUp1UWg5cjhEUT09
SUMMARY:Pilot Workshop Debrief Session (Community Discussion Session)
END:VEVENT
BEGIN:VEVENT
UID:pretix-community-events-community-sessions-749@pretix.carpentries.org
DTSTART:20260506T083000Z
DTEND:20260506T100000Z
DESCRIPTION:Tickets: https://pretix.carpentries.org/community-events/commun
 ity-sessions/749/\nOrganizer: Carpentries Community Events
DTSTAMP:20260421T191103Z
LOCATION:https://carpentries.zoom.us/my/carpentriesroom2?pwd=WmVCOUlPUm1laF
 k5SUp1UWg5cjhEUT09
SUMMARY:Creating a Workshop Website (Skill-up Session)
END:VEVENT
BEGIN:VEVENT
UID:pretix-community-events-welcome-sessions-726@pretix.carpentries.org
DTSTART:20260506T120000Z
DTEND:20260506T130000Z
DESCRIPTION:Tickets: https://pretix.carpentries.org/community-events/welcom
 e-sessions/726/\nOrganizer: Carpentries Community Events
DTSTAMP:20260421T191103Z
LOCATION:https://carpentries.zoom.us/my/carpentriesroom2?pwd=WmVCOUlPUm1laF
 k5SUp1UWg5cjhEUT09
SUMMARY:Welcome Session
END:VEVENT
BEGIN:VEVENT
UID:pretix-community-events-welcome-sessions-727@pretix.carpentries.org
DTSTART:20260512T140000Z
DTEND:20260512T150000Z
DESCRIPTION:Tickets: https://pretix.carpentries.org/community-events/welcom
 e-sessions/727/\nOrganizer: Carpentries Community Events
DTSTAMP:20260421T191103Z
LOCATION:https://carpentries.zoom.us/my/carpentriesroom2?pwd=WmVCOUlPUm1laF
 k5SUp1UWg5cjhEUT09
SUMMARY:Welcome Session
END:VEVENT
BEGIN:VEVENT
UID:pretix-community-events-community-sessions-750@pretix.carpentries.org
DTSTART:20260513T180000Z
DTEND:20260513T190000Z
DESCRIPTION:Tickets: https://pretix.carpentries.org/community-events/commun
 ity-sessions/750/\nOrganizer: Carpentries Community Events
DTSTAMP:20260421T191103Z
LOCATION:https://carpentries.zoom.us/my/carpentriesroom2?pwd=WmVCOUlPUm1laF
 k5SUp1UWg5cjhEUT09
SUMMARY:Pilot Workshop Debrief Session (Community Discussion Session)
END:VEVENT
BEGIN:VEVENT
UID:pretix-community-events-welcome-sessions-728@pretix.carpentries.org
DTSTART:20260518T120000Z
DTEND:20260518T130000Z
DESCRIPTION:Tickets: https://pretix.carpentries.org/community-events/welcom
 e-sessions/728/\nOrganizer: Carpentries Community Events
DTSTAMP:20260421T191103Z
LOCATION:https://carpentries.zoom.us/my/carpentriesroom2?pwd=WmVCOUlPUm1laF
 k5SUp1UWg5cjhEUT09
SUMMARY:Welcome Session
END:VEVENT
BEGIN:VEVENT
UID:pretix-community-events-community-sessions-751@pretix.carpentries.org
DTSTART:20260520T173000Z
DTEND:20260520T183000Z
DESCRIPTION:Tickets: https://pretix.carpentries.org/community-events/commun
 ity-sessions/751/\nOrganizer: Carpentries Community Events
DTSTAMP:20260421T191103Z
LOCATION:https://carpentries.zoom.us/my/carpentriesroom2?pwd=WmVCOUlPUm1laF
 k5SUp1UWg5cjhEUT09
SUMMARY:Carpentries Networking Session (Community Discussion Session)
END:VEVENT
BEGIN:VEVENT
UID:pretix-community-events-welcome-sessions-729@pretix.carpentries.org
DTSTART:20260522T090000Z
DTEND:20260522T100000Z
DESCRIPTION:Tickets: https://pretix.carpentries.org/community-events/welcom
 e-sessions/729/\nOrganizer: Carpentries Community Events
DTSTAMP:20260421T191103Z
LOCATION:https://carpentries.zoom.us/my/carpentriesroom2?pwd=WmVCOUlPUm1laF
 k5SUp1UWg5cjhEUT09
SUMMARY:Welcome Session
END:VEVENT
BEGIN:VEVENT
UID:pretix-community-events-community-sessions-752@pretix.carpentries.org
DTSTART:20260528T100000Z
DTEND:20260528T110000Z
DESCRIPTION:Tickets: https://pretix.carpentries.org/community-events/commun
 ity-sessions/752/\nOrganizer: Carpentries Community Events
DTSTAMP:20260421T191103Z
LOCATION:https://carpentries.zoom.us/my/carpentriesroom2?pwd=WmVCOUlPUm1laF
 k5SUp1UWg5cjhEUT09
SUMMARY:African Carpentry Community Monthly Call (Community Discussion Sess
 ion)
END:VEVENT
BEGIN:VEVENT
UID:pretix-community-events-community-sessions-753@pretix.carpentries.org
DTSTART:20260528T130000Z
DTEND:20260528T140000Z
DESCRIPTION:Tickets: https://pretix.carpentries.org/community-events/commun
 ity-sessions/753/\nOrganizer: Carpentries Community Events
DTSTAMP:20260421T191103Z
LOCATION:https://carpentries.zoom.us/my/carpentriesroom2?pwd=WmVCOUlPUm1laF
 k5SUp1UWg5cjhEUT09
SUMMARY:Carpentries @ NRW Community Meeting (Community Discussion Session)
END:VEVENT
BEGIN:VEVENT
UID:pretix-community-events-welcome-sessions-730@pretix.carpentries.org
DTSTART:20260602T120000Z
DTEND:20260602T130000Z
DESCRIPTION:Tickets: https://pretix.carpentries.org/community-events/welcom
 e-sessions/730/\nOrganizer: Carpentries Community Events
DTSTAMP:20260421T191103Z
LOCATION:https://carpentries.zoom.us/my/carpentriesroom2?pwd=WmVCOUlPUm1laF
 k5SUp1UWg5cjhEUT09
SUMMARY:Welcome Session
END:VEVENT
BEGIN:VEVENT
UID:pretix-community-events-community-sessions-754@pretix.carpentries.org
DTSTART:20260609T070000Z
DTEND:20260609T080000Z
DESCRIPTION:Tickets: https://pretix.carpentries.org/community-events/commun
 ity-sessions/754/\nOrganizer: Carpentries Community Events
DTSTAMP:20260421T191103Z
LOCATION:https://carpentries.zoom.us/my/carpentriesroom2?pwd=WmVCOUlPUm1laF
 k5SUp1UWg5cjhEUT09
SUMMARY:Pilot Workshop Debrief Session (Community Discussion Session)
END:VEVENT
BEGIN:VEVENT
UID:pretix-community-events-welcome-sessions-731@pretix.carpentries.org
DTSTART:20260609T140000Z
DTEND:20260609T150000Z
DESCRIPTION:Tickets: https://pretix.carpentries.org/community-events/welcom
 e-sessions/731/\nOrganizer: Carpentries Community Events
DTSTAMP:20260421T191103Z
LOCATION:https://carpentries.zoom.us/my/carpentriesroom2?pwd=WmVCOUlPUm1laF
 k5SUp1UWg5cjhEUT09
SUMMARY:Welcome Session
END:VEVENT
BEGIN:VEVENT
UID:pretix-community-events-welcome-sessions-732@pretix.carpentries.org
DTSTART:20260610T230000Z
DTEND:20260611T000000Z
DESCRIPTION:Tickets: https://pretix.carpentries.org/community-events/welcom
 e-sessions/732/\nOrganizer: Carpentries Community Events
DTSTAMP:20260421T191103Z
LOCATION:https://carpentries.zoom.us/my/carpentriesroom2?pwd=WmVCOUlPUm1laF
 k5SUp1UWg5cjhEUT09
SUMMARY:Welcome Session
END:VEVENT
BEGIN:VEVENT
UID:pretix-community-events-welcome-sessions-733@pretix.carpentries.org
DTSTART:20260623T130000Z
DTEND:20260623T140000Z
DESCRIPTION:Tickets: https://pretix.carpentries.org/community-events/welcom
 e-sessions/733/\nOrganizer: Carpentries Community Events
DTSTAMP:20260421T191103Z
LOCATION:https://carpentries.zoom.us/my/carpentriesroom2?pwd=WmVCOUlPUm1laF
 k5SUp1UWg5cjhEUT09
SUMMARY:Welcome Session
END:VEVENT
BEGIN:VEVENT
UID:pretix-community-events-community-sessions-755@pretix.carpentries.org
DTSTART:20260625T100000Z
DTEND:20260625T110000Z
DESCRIPTION:Tickets: https://pretix.carpentries.org/community-events/commun
 ity-sessions/755/\nOrganizer: Carpentries Community Events
DTSTAMP:20260421T191103Z
LOCATION:https://carpentries.zoom.us/my/carpentriesroom2?pwd=WmVCOUlPUm1laF
 k5SUp1UWg5cjhEUT09
SUMMARY:African Carpentry Community Monthly Call (Community Discussion Sess
 ion)
END:VEVENT
BEGIN:VEVENT
UID:pretix-community-events-welcome-sessions-734@pretix.carpentries.org
DTSTART:20260630T130000Z
DTEND:20260630T140000Z
DESCRIPTION:Tickets: https://pretix.carpentries.org/community-events/welcom
 e-sessions/734/\nOrganizer: Carpentries Community Events
DTSTAMP:20260421T191103Z
LOCATION:https://carpentries.zoom.us/my/carpentriesroom2?pwd=WmVCOUlPUm1laF
 k5SUp1UWg5cjhEUT09
SUMMARY:Welcome Session
END:VEVENT
END:VCALENDAR
